BEGIN:VCALENDAR
VERSION:2.0
PRODID:-//ChamberMaster//Event Calendar 2.0//EN
METHOD:PUBLISH
X-PUBLISHED-TTL:P3D
REFRESH-INTERVAL:P3D
CALSCALE:GREGORIAN
BEGIN:VEVENT
DTSTART;VALUE=DATE:20200803
DTEND;VALUE=DATE:20200804
TRANSP:TRANSPARENT
X-MICROSOFT-CDO-ALLDAYEVENT:TRUE
SUMMARY:2020 Annual Golf Outing
DESCRIPTION:
X-ALT-DESC;FMTTYPE=text/html:
LOCATION:Eagle Brook Country Club 2288 Fargo Boulevard Geneva\, IL 60134
UID:e.423.32715
SEQUENCE:3
DTSTAMP:20260425T165037Z
URL:https://members.stcharleschamber.com/events/details/2020-annual-golf-outing-32715
END:VEVENT

END:VCALENDAR
