BEGIN:VCALENDAR
VERSION:2.0
PRODID:-//ChamberMaster//Event Calendar 2.0//EN
METHOD:PUBLISH
X-PUBLISHED-TTL:P3D
REFRESH-INTERVAL:P3D
CALSCALE:GREGORIAN
BEGIN:VEVENT
DTSTART:20261029T123000Z
DTEND:20261029T153000Z
X-MICROSOFT-CDO-ALLDAYEVENT:FALSE
SUMMARY:2026 Membership Breakfast & Meeting
DESCRIPTION:Our annual Membership Breakfast provides Members with the opportunity to meet the Chairman and Board of Directors\, learn priorities for the year\, connect with business and community leaders\, learn more about chamber committees/resources and celebrate accomplishments over the past year\, including chamber award winners.\n\n\n\n*Per St. Charles Country Club's rules: proper attire is required both inside and outside the facility and blue jeans/denim are strictly prohibited.
X-ALT-DESC;FMTTYPE=text/html:Our annual Membership Breakfast provides Members with the opportunity to meet the Chairman and Board of Directors\, learn priorities for the year\, connect with business and community leaders\, learn more about chamber committees/resources and celebrate accomplishments over the past year\, including chamber award winners.<br />\n<br />\n<strong style="color: rgb(178\, 34\, 34)\;">*Per St. Charles Country Club&#39\;s rules: proper attire is required both inside and outside the facility and blue jeans/denim are strictly prohibited.</strong>
LOCATION:St. Charles Country Club
UID:e.423.41643
SEQUENCE:3
DTSTAMP:20260420T092951Z
URL:https://members.stcharleschamber.com/events/details/2025-membership-breakfast-meeting-41643
END:VEVENT

END:VCALENDAR
