BEGIN:VCALENDAR
VERSION:2.0
PRODID:-//ChamberMaster//Event Calendar 2.0//EN
METHOD:PUBLISH
X-PUBLISHED-TTL:P3D
REFRESH-INTERVAL:P3D
CALSCALE:GREGORIAN
BEGIN:VEVENT
DTSTART:20260926T133000Z
DTEND:20260926T170000Z
X-MICROSOFT-CDO-ALLDAYEVENT:FALSE
SUMMARY:2026 Fox Valley Walk to End Alzheimer's
DESCRIPTION:Free Community Event to raise Awareness and Funds for the Illinois Chapter of the Alzheimer's Association - towards care\, support\, advocacy and research efforts benefiting individuals and families facing Alzheimer's disease or related dementia.
X-ALT-DESC;FMTTYPE=text/html:Free Community Event to raise Awareness and Funds for the Illinois Chapter of the Alzheimer&#39\;s Association - towards care\, support\, advocacy and research efforts benefiting individuals and families facing Alzheimer&#39\;s disease or related dementia.
LOCATION:Pottawatomie Park - St. Charles
UID:e.423.41634
SEQUENCE:3
DTSTAMP:20260420T093217Z
URL:https://members.stcharleschamber.com/events/details/2026-fox-valley-walk-to-end-alzheimer-s-41634
END:VEVENT

END:VCALENDAR
