BEGIN:VCALENDAR
VERSION:2.0
PRODID:-//ChamberMaster//Event Calendar 2.0//EN
METHOD:PUBLISH
X-PUBLISHED-TTL:P3D
REFRESH-INTERVAL:P3D
CALSCALE:GREGORIAN
BEGIN:VEVENT
DTSTART:20260506T230000Z
DTEND:20260507T023000Z
X-MICROSOFT-CDO-ALLDAYEVENT:FALSE
SUMMARY:2026 State of the City (City Update)
DESCRIPTION:The St. Charles Area Chamber of Commerce and the City of St. Charles invite the community to join us for the 2026 State of the City\, a special evening celebrating collaboration\, progress\, and the shared vision shaping our community's future.\n\n\n\nThis annual event highlights the strong partnership between the Chamber and the City\, bringing together business leaders\, residents\, elected officials\, and community partners to reflect on the past year and look ahead to what's next for St. Charles. Through updates and conversation\, attendees will gain insight into the initiatives\, investments\, and opportunities that continue to make St. Charles a thriving place to live\, work\, and do business.\n\n\n\nThe evening will feature presentations from key community partners - including the St. Charles Public Library\, St. Charles Park District\, and St. Charles Community Unit School District 303 - followed by remarks from Mayor Clint Hull and City Staff. A panel discussion with community leaders will explore current priorities\, partnerships\, and the future of our city.
X-ALT-DESC;FMTTYPE=text/html:<strong>The St. Charles Area Chamber of Commerce and the City of St. Charles invite the community to join us for the 2026 State of the City\, a special evening celebrating collaboration\, progress\, and the shared vision shaping our community&rsquo\;s future.</strong><br />\n<br />\nThis annual event highlights the strong partnership between the Chamber and the City\, bringing together business leaders\, residents\, elected officials\, and community partners to reflect on the past year and look ahead to what&rsquo\;s next for St. Charles. Through updates and conversation\, attendees will gain insight into the initiatives\, investments\, and opportunities that continue to make St. Charles a thriving place to live\, work\, and do business.<br />\n<br />\nThe evening will feature presentations from key community partners - including the St. Charles Public Library\, St. Charles Park District\, and St. Charles Community Unit School District 303 - followed by remarks from Mayor Clint Hull and City Staff. A panel discussion with community leaders will explore current priorities\, partnerships\, and the future of our city.
LOCATION:The Arcada Theatre
UID:e.423.41386
SEQUENCE:3
DTSTAMP:20260424T135106Z
URL:https://members.stcharleschamber.com/events/details/2026-state-of-the-city-city-update-41386
END:VEVENT

END:VCALENDAR
