BEGIN:VCALENDAR
VERSION:2.0
PRODID:-//ChamberMaster//Event Calendar 2.0//EN
METHOD:PUBLISH
X-PUBLISHED-TTL:P3D
REFRESH-INTERVAL:P3D
CALSCALE:GREGORIAN
BEGIN:VEVENT
DTSTART:20200923T130000Z
DTEND:20200923T140000Z
X-MICROSOFT-CDO-ALLDAYEVENT:FALSE
SUMMARY:B2B Progressive Networking Event
DESCRIPTION:Join us for this Socially Distant + Outdoor B2B Networking Event at the Baltria Classics + Custom Auto Pavillion. Bring your own chair and join us for this multi chamber opportunity! Donuts + Coffee will be served! $5 Fee.
X-ALT-DESC;FMTTYPE=text/html:<span style="color: rgb(29\, 33\, 41)\; font-family: Helvetica\, Arial\, sans-serif\; font-size: 14px\; white-space: pre-wrap\; background-color: rgb(255\, 255\, 255)\;">Join us for this Socially Distant + Outdoor B2B Networking Event at the Baltria Classics + Custom Auto Pavillion. Bring your own chair and join us for this multi chamber opportunity! Donuts + Coffee will be served! $5 Fee.</span>
LOCATION:Baltria Classics + Custom Auto 4200 E Main St. St. Charles\, IL
UID:e.423.34988
SEQUENCE:3
DTSTAMP:20260422T061233Z
URL:https://members.stcharleschamber.com/events/details/b2b-progressive-networking-event-34988
END:VEVENT

END:VCALENDAR
