BEGIN:VCALENDAR
VERSION:2.0
PRODID:-//ChamberMaster//Event Calendar 2.0//EN
METHOD:PUBLISH
X-PUBLISHED-TTL:P3D
REFRESH-INTERVAL:P3D
CALSCALE:GREGORIAN
BEGIN:VEVENT
DTSTART:20260521T190000Z
DTEND:20260521T220000Z
X-MICROSOFT-CDO-ALLDAYEVENT:FALSE
SUMMARY:Carriage Oaks Independent Living Grand Reopening
DESCRIPTION:We're excited to invite you to the grand reopening of our beautifully renovated community! Come experience our stunning new lobby\, relax in our inviting caf \, and take in our beautifully refreshed dining room   all thoughtfully redesigned with comfort\, style\, and connection in mind. Every detail has been updated to create a warm\, welcoming space we're proud to share. We can't wait to celebrate this exciting new chapter with you and welcome you through our doors!
X-ALT-DESC;FMTTYPE=text/html:We&rsquo\;re excited to invite you to the grand reopening of our beautifully renovated community! Come experience our stunning new lobby\, relax in our inviting caf&eacute\;\, and take in our beautifully refreshed dining room &mdash\; all thoughtfully redesigned with comfort\, style\, and connection in mind. Every detail has been updated to create a warm\, welcoming space we&rsquo\;re proud to share. We can&rsquo\;t wait to celebrate this exciting new chapter with you and welcome you through our doors!
LOCATION:1500 S. 14th street Saint Charles\, IL. 60174
UID:e.423.41645
SEQUENCE:3
DTSTAMP:20260424T134320Z
URL:https://members.stcharleschamber.com/events/details/carriage-oaks-independent-living-grand-reopening-41645
END:VEVENT

END:VCALENDAR
