BEGIN:VCALENDAR
VERSION:2.0
PRODID:-//ChamberMaster//Event Calendar 2.0//EN
METHOD:PUBLISH
X-PUBLISHED-TTL:P3D
REFRESH-INTERVAL:P3D
CALSCALE:GREGORIAN
BEGIN:VEVENT
DTSTART:20260521T190000Z
DTEND:20260521T220000Z
X-MICROSOFT-CDO-ALLDAYEVENT:FALSE
SUMMARY:Carriage Oaks Independent Living Open House
DESCRIPTION:Join us for our Open House to showcase our newly renovated community.
X-ALT-DESC;FMTTYPE=text/html:Join us for our Open House to showcase our newly renovated community.&nbsp\;
LOCATION:1500 S. 14th street\, Saint Charles\, IL. 60174
UID:e.423.41623
SEQUENCE:3
DTSTAMP:20260423T190328Z
URL:https://members.stcharleschamber.com/events/details/carriage-oaks-independent-living-open-house-41623
END:VEVENT

END:VCALENDAR
