BEGIN:VCALENDAR
VERSION:2.0
PRODID:-//ChamberMaster//Event Calendar 2.0//EN
METHOD:PUBLISH
X-PUBLISHED-TTL:P3D
REFRESH-INTERVAL:P3D
CALSCALE:GREGORIAN
BEGIN:VEVENT
DTSTART:20211002T050000Z
DTEND:20211002T050000Z
X-MICROSOFT-CDO-ALLDAYEVENT:FALSE
SUMMARY:Hops for Hope 5K Presented by Dogfish Head and Truly Hard Seltzer
DESCRIPTION:Project Mobility is hosting our 5th annual 5K beer run. Hops for Hope 5K is a twist on the traditional 5K! The event is timed and the course is certified\, whether you are a serious runner or walker who loves beer\, this event is for you. We have 4 different options this year\; In-Person 5K with Beer Stops\, In-Person 5K with No Beer Stops\, Virtual 5K and Awards Ceremony Only.\n\n \n\nThe In-Person 5K will start at the beautiful Mount Saint Mary Park in St. Charles and head towards Geneva on the scenic path through Wheeler Park and ends back at Mount Saint Mary Park for the Award Ceremony!\n\nProceeds benefit Project Mobility's mission to bring adaptive cycling opportunities to the lives of children\, adults\, and wounded service members with emotional and physical challenges.\n\n \n\nTHAT'S A WEIRD TWIST?! We think you mean delicious and fun! Throughout the 5K there will be 6 Refueling Stations (Beer Stops) featuring local craft breweries handing out 3-ounce beer samples to runners.\n\nThe Award Ceremony will feature a live band\, more beer\, food and Adaptive Bike Giveaway Presentation.\n\n \n\n*All runners must be 21 years or older and show a valid ID day of the race.\n\n**We will be following all CDC/local guidelines relating to COVID.\n\nKeeping participants safe is our number one priority.
X-ALT-DESC;FMTTYPE=text/html:Project Mobility is hosting our 5th annual 5K beer run. Hops for Hope 5K is a twist on the traditional 5K! The event is timed and the course is certified\, whether you are a serious runner or walker who loves beer\, this event is for you. We have 4 different options this year\; In-Person 5K with Beer Stops\, In-Person 5K with No Beer Stops\, Virtual 5K and Awards Ceremony Only.<br />\n&nbsp\;<br />\nThe In-Person 5K will start at the beautiful Mount Saint Mary Park in St. Charles and head towards Geneva on the scenic path through Wheeler Park and ends back at Mount Saint Mary Park for the Award Ceremony!<br />\nProceeds benefit Project Mobility&#39\;s mission to bring adaptive cycling opportunities to the lives of children\, adults\, and wounded service members with emotional and physical challenges.<br />\n&nbsp\;<br />\nTHAT&#39\;S A WEIRD TWIST?! We think you mean delicious and fun! Throughout the 5K there will be 6 Refueling Stations (Beer Stops) featuring local craft breweries handing out 3-ounce beer samples to runners.<br />\nThe Award Ceremony will feature a live band\, more beer\, food and Adaptive Bike Giveaway Presentation.<br />\n&nbsp\;<br />\n*All runners must be 21 years or older and show a valid ID day of the race.<br />\n**We will be following all CDC/local guidelines relating to COVID.<br />\nKeeping participants safe is our number one priority.<br />\n&nbsp\;
LOCATION:In-Person: Mount Saint Mary Park - St. Charles Virtual: Anywhere you want!
UID:e.423.35531
SEQUENCE:3
DTSTAMP:20260421T211525Z
URL:https://members.stcharleschamber.com/events/details/everybody-rides-presented-by-aldi-08-15-2021-35531
END:VEVENT

END:VCALENDAR
