BEGIN:VCALENDAR
VERSION:2.0
PRODID:-//ChamberMaster//Event Calendar 2.0//EN
METHOD:PUBLISH
X-PUBLISHED-TTL:P3D
REFRESH-INTERVAL:P3D
CALSCALE:GREGORIAN
BEGIN:VEVENT
DTSTART:20201211T223000Z
DTEND:20201212T013000Z
X-MICROSOFT-CDO-ALLDAYEVENT:FALSE
SUMMARY:Friday Night Fish Fry
DESCRIPTION:Join us at Prairie Landing Golf Club every Friday from 4:30-7:30pm for our all you can eat Fish Fry. Menu to include house salad\, choice of beer battered cod\, baked tilapia or pepper & egg sandwich\, French fries & coleslaw. Reservations recommended but not required. Questions\, call Erin at 630.208.7633
X-ALT-DESC;FMTTYPE=text/html:<span style="background-color:rgb(255\, 255\, 255)\; color:rgb(51\, 51\, 51)\; font-family:sans-serif\,arial\,verdana\,trebuchet ms\; font-size:13px">Join us at Prairie Landing Golf Club every Friday from 4:30-7:30pm for our all you can eat Fish Fry. Menu to include house salad\, choice of beer battered cod\, baked tilapia or pepper &amp\; egg sandwich\, French fries &amp\; coleslaw. Reservations&nbsp\;</span><span style="color:rgb(51\, 51\, 51)\; font-family:sans-serif\,arial\,verdana\,trebuchet ms\; font-size:13px"><span style="font-family:arial\,sans-serif"><span style="font-size:10pt">recommended&nbsp\;</span></span></span><span style="background-color:rgb(255\, 255\, 255)\; color:rgb(51\, 51\, 51)\; font-family:sans-serif\,arial\,verdana\,trebuchet ms\; font-size:13px">but not required. Questions\, call Erin at 630.208.7633</span>
LOCATION:Prairie Landing Golf Club 2325 Longest Drive West Chicago\, IL 60185 630.208.7633
UID:e.423.34082
SEQUENCE:3
DTSTAMP:20260423T113335Z
URL:https://members.stcharleschamber.com/events/details/friday-night-fish-fry-12-11-2020-34082
END:VEVENT

END:VCALENDAR
