BEGIN:VCALENDAR
VERSION:2.0
PRODID:-//ChamberMaster//Event Calendar 2.0//EN
METHOD:PUBLISH
X-PUBLISHED-TTL:P3D
REFRESH-INTERVAL:P3D
CALSCALE:GREGORIAN
BEGIN:VEVENT
DTSTART:20240404T170000Z
DTEND:20240404T180000Z
X-MICROSOFT-CDO-ALLDAYEVENT:FALSE
SUMMARY:Hands Around the Court House (HATCH) - Child Abuse Awareness Month
DESCRIPTION:In honor of Child Abuse Prevention Month\, CASA Kane County will host its annual Hands Around the Courthouse observance. Join us as we work together to bring awareness to child abuse and help protect the well-being of the next generation!\n\n \n\nFeaturing Guest Speakers\n\nHonorable Chief Judge Robert Villa\n\nState's Attorney Jamie Mosser\n\n \n\nRemarks by: \n\nJim Di Ciaula\, Executive Director CASA Kane County\n\n\n\n\n\nIndividuals interested in learning more about becoming an advocate are invited to stay for an informational meeting after the event.
X-ALT-DESC;FMTTYPE=text/html:<span style="color:#333333"><span style="font-family:arial\,sans-serif"><span style="font-size:10.0pt">In honor of Child Abuse Prevention Month\, CASA Kane County will host its annual Hands Around the Courthouse observance.&nbsp\;Join us as we work together to bring awareness to child abuse and help protect the well-being of the next generation!</span></span></span><br />\n&nbsp\;<br />\n<span style="color:#333333"><span style="font-family:arial\,sans-serif"><span style="font-size:10.0pt">Featuring Guest Speakers</span></span></span><br />\n<span style="color:#333333"><span style="font-family:arial\,sans-serif"><span style="font-size:10.0pt">Honorable Chief Judge Robert Villa</span></span></span><br />\n<span style="color:#333333"><span style="font-family:arial\,sans-serif"><span style="font-size:10.0pt">State&rsquo\;s Attorney Jamie Mosser</span></span></span><br />\n&nbsp\;<br />\n<span style="color:#333333"><span style="font-family:arial\,sans-serif"><span style="font-size:10.0pt">Remarks by: </span></span></span><br />\n<span style="color:#333333"><span style="font-family:arial\,sans-serif"><span style="font-size:10.0pt">Jim Di Ciaula\, Executive Director CASA Kane County<br />\n<br />\n<br />\nIndividuals interested in learning more about becoming an advocate are invited to stay for an informational meeting after the event.</span></span></span>
LOCATION:Kane County Courthouse Rotunda 100 S. Third Street Geneva\, IL 60134
UID:e.423.39489
SEQUENCE:3
DTSTAMP:20260424T135712Z
URL:https://members.stcharleschamber.com/events/details/hands-around-the-court-house-hatch-child-abuse-awareness-month-39489
END:VEVENT

END:VCALENDAR
