BEGIN:VCALENDAR
VERSION:2.0
PRODID:-//ChamberMaster//Event Calendar 2.0//EN
METHOD:PUBLISH
X-PUBLISHED-TTL:P3D
REFRESH-INTERVAL:P3D
CALSCALE:GREGORIAN
BEGIN:VEVENT
DTSTART:20230324T173000Z
DTEND:20230324T190000Z
X-MICROSOFT-CDO-ALLDAYEVENT:FALSE
SUMMARY:Home Design Trends: Coffee & Conversation
DESCRIPTION:Are you thinking about a home renovation but aren't sure where to begin? Wondering what design elements will work best in your home? \n\nJoin us for a conversation on design trends and inspiration for your home!\n\nLearn about home design trends in 2023 and beyond at our studio with our award-winning design experts! Whether you're planning a simple home d cor update or a full remodel\, this free event is sure to equip and inspire you with all the information you need. \n\nWe'll talk about color trends\, cabinetry\, textures\, storage solutions\, and more. Spots are limited at Trends\, so please RSVP\, and we will ensure your seat is reserved. Light snacks and beverages will be provided.
X-ALT-DESC;FMTTYPE=text/html:<div style="background: rgb(238\, 238\, 238)\; border: 1px solid rgb(204\, 204\, 204)\; padding: 5px 10px\; text-align: center\;"><span style="font-size:14px"><strong>Are you thinking about a home renovation but aren&rsquo\;t sure where to begin? Wondering what design elements will work best in your home?&nbsp\;<br />\nJoin us for a conversation on design trends and inspiration for your home!</strong></span></div>\n\n<p>Learn about home design trends in 2023 and beyond&nbsp\;at our studio with our <strong><em>award-winning design experts</em></strong>! Whether you&rsquo\;re planning a simple home d&eacute\;cor update or a full remodel\, this <strong>free </strong>event is sure to equip and inspire you with all the information you need.&nbsp\;</p>\n\n<p>We&rsquo\;ll talk about color trends\, cabinetry\, textures\, storage solutions\, and more.&nbsp\;Spots are limited at Trends\, so please RSVP\, and we will ensure your seat is reserved.&nbsp\;Light snacks and beverages will be provided.&nbsp\;</p>\n
LOCATION:Advance Design Studio 30 Railroad Street Gilberts\, IL 60136
UID:e.423.38731
SEQUENCE:3
DTSTAMP:20260423T090152Z
URL:https://members.stcharleschamber.com/events/details/home-design-trends-coffee-conversation-38731
END:VEVENT

END:VCALENDAR
