BEGIN:VCALENDAR
VERSION:2.0
PRODID:-//ChamberMaster//Event Calendar 2.0//EN
METHOD:PUBLISH
X-PUBLISHED-TTL:P3D
REFRESH-INTERVAL:P3D
CALSCALE:GREGORIAN
BEGIN:VEVENT
DTSTART:20260521T213000Z
DTEND:20260521T233000Z
X-MICROSOFT-CDO-ALLDAYEVENT:FALSE
SUMMARY:May Business After Hours: Benjamin F. Edwards
DESCRIPTION:Join us for our February Business After Hours event hosted by Benjamin F. Edwards! It's the perfect opportunity to make new connections\, strengthen existing relationships\, and engage with our local business community and fellow Chamber Members.
X-ALT-DESC;FMTTYPE=text/html:<span style="color: rgb(8\, 8\, 9)\; font-family: arial\; font-size: 14px\;">Join us for our February Business After Hours event hosted by <a href="https://members.stcharleschamber.com/list/member/benjamin-f-edwards-co-10505">Benjamin F. Edwards</a>!&nbsp\;</span><span style="font-size:14px\;"><span style="font-family:arial\;"><span class="a_GcMg font-feature-liga-off font-feature-clig-off font-feature-calt-off text-decoration-none text-strikethrough-none" style="color: rgba(0\,0\,0\,var(--O42jJQ\,1))\; caret-color: rgb(0\, 0\, 0)\; --Ys-XuQ: none\; font-kerning: none\;">It&rsquo\;s the perfect opportunity to make new connections\, strengthen existing relationships\, and engage with our local business community and fellow Chamber Members.</span></span></span>
LOCATION:Benjamin F. Edwards Offices
UID:e.423.41642
SEQUENCE:3
DTSTAMP:20260424T121424Z
URL:https://members.stcharleschamber.com/events/details/may-business-after-hours-benjamin-f-edwards-41642
END:VEVENT

END:VCALENDAR
