BEGIN:VCALENDAR
VERSION:2.0
PRODID:-//ChamberMaster//Event Calendar 2.0//EN
METHOD:PUBLISH
X-PUBLISHED-TTL:P3D
REFRESH-INTERVAL:P3D
CALSCALE:GREGORIAN
BEGIN:VEVENT
DTSTART:20250515T213000Z
DTEND:20250515T233000Z
X-MICROSOFT-CDO-ALLDAYEVENT:FALSE
SUMMARY:May Business After Hours: Primrose Farm
DESCRIPTION:Join us for our May Business After Hours event hosted by Primrose Farm!
X-ALT-DESC;FMTTYPE=text/html:<span style="color: rgb(8\, 8\, 9)\; font-family: arial\; font-size: 14px\;">Join us for our May Business After Hours event hosted by Primrose Farm!</span>
LOCATION:Primrose Farm
UID:e.423.40965
SEQUENCE:3
DTSTAMP:20260423T101734Z
URL:https://members.stcharleschamber.com/events/details/may-business-after-hours-primrose-farm-40965
END:VEVENT

END:VCALENDAR
