BEGIN:VCALENDAR
VERSION:2.0
PRODID:-//ChamberMaster//Event Calendar 2.0//EN
METHOD:PUBLISH
X-PUBLISHED-TTL:P3D
REFRESH-INTERVAL:P3D
CALSCALE:GREGORIAN
BEGIN:VEVENT
DTSTART:20200901T140000Z
DTEND:20200901T150000Z
X-MICROSOFT-CDO-ALLDAYEVENT:FALSE
SUMMARY:Meet the Candidates: Lauren Underwood + Jim Oberweis
DESCRIPTION:
X-ALT-DESC;FMTTYPE=text/html:
LOCATION:
UID:e.423.34976
SEQUENCE:3
DTSTAMP:20260421T181746Z
URL:https://members.stcharleschamber.com/events/details/meet-the-candidates-lauren-underwood-jim-oberweis-34976
END:VEVENT

END:VCALENDAR
