BEGIN:VCALENDAR
VERSION:2.0
PRODID:-//ChamberMaster//Event Calendar 2.0//EN
METHOD:PUBLISH
X-PUBLISHED-TTL:P3D
REFRESH-INTERVAL:P3D
CALSCALE:GREGORIAN
BEGIN:VEVENT
DTSTART;VALUE=DATE:20260510
DTEND;VALUE=DATE:20260511
TRANSP:TRANSPARENT
X-MICROSOFT-CDO-ALLDAYEVENT:TRUE
SUMMARY:Mother's Day Brunch at Prairie Landing Golf Club 2026
DESCRIPTION:Celebrate the moms in your life with Prairie Landing Golf Club at our Mother's Day Brunch on Sunday\, May 10\, 2026.\n\nSeating at 10:00 AM\, 10:30 AM\, 12:30 PM\, and 1:00 PM. Reservations required by 5/7/2026 by calling (630) 208-7633 Monday   Friday 10 AM-5 PM.\n\nPlease leave a message\, and we will return your call as soon as possible\n\nAdults: $59 l Children (4-13): $29 l Children 3 & Under: Free \n\nMember Pricing: Adults: $47.50 l Children (4-13): $28\n\nMember Pricing valid for member plus 3 guests\n\nCoffee & hot tea included   all other beverages are for purchase\n\n*Service charge and tax included in above pricing\n\n$18 Bottomless Mimosas\, Bloody Mary's\, and Aperol Spritz\n\nEnjoy an elegant brunch menu created by our Executive chef!\n\nOmelet & Carving Stations\n\nBreakfast & Lunch Favorites\n\nFresh Seafood Station\n\nKids Buffet\n\nAnd Much More!\n\n*Credit card required for reservation. Cancellations or modifications must be made before 5/7 as all payments will be processed prior to the event.
X-ALT-DESC;FMTTYPE=text/html:<p>Celebrate the moms in your life with Prairie Landing Golf Club at our Mother&rsquo\;s Day Brunch on Sunday\, May 10\, 2026.</p>\n\n<p>Seating at 10:00 AM\, 10:30 AM\, 12:30 PM\, and 1:00 PM.&nbsp\;Reservations required by 5/7/2026 by calling (630) 208-7633 Monday &ndash\; Friday 10 AM-5 PM.<br />\nPlease leave a message\, and we will return your call as soon as possible</p>\n\n<p>Adults: $59&nbsp\;l&nbsp\;Children (4-13): $29&nbsp\;l&nbsp\;Children 3 &amp\; Under: Free&nbsp\;<br />\nMember Pricing: Adults: $47.50&nbsp\;l&nbsp\;Children (4-13): $28<br />\n<em>Member Pricing valid for member plus 3 guests</em></p>\n\n<p>Coffee &amp\; hot tea included &ndash\; all other beverages are for purchase<br />\n*Service charge and tax included in above pricing<br />\n$18 Bottomless Mimosas\, Bloody Mary&rsquo\;s\, and Aperol Spritz</p>\n\n<p>Enjoy an elegant brunch menu created by our Executive chef!<br />\nOmelet &amp\; Carving Stations<br />\nBreakfast &amp\; Lunch Favorites<br />\nFresh Seafood Station<br />\nKids Buffet<br />\nAnd Much More!</p>\n\n<p>*Credit card required for reservation.&nbsp\;Cancellations or modifications must be made before 5/7 as all payments will be processed prior to the event.</p>\n
LOCATION:Prairie Landing Golf Club\, 2325 Longest Drive\, West Chicago\, IL 60185
UID:e.423.41646
SEQUENCE:3
DTSTAMP:20260424T120601Z
URL:https://members.stcharleschamber.com/events/details/mother-s-day-brunch-at-prairie-landing-golf-club-2026-41646
END:VEVENT

END:VCALENDAR
