BEGIN:VCALENDAR
VERSION:2.0
PRODID:-//ChamberMaster//Event Calendar 2.0//EN
METHOD:PUBLISH
X-PUBLISHED-TTL:P3D
REFRESH-INTERVAL:P3D
CALSCALE:GREGORIAN
BEGIN:VEVENT
DTSTART:20190924T123000Z
DTEND:20190924T150000Z
X-MICROSOFT-CDO-ALLDAYEVENT:FALSE
SUMMARY:Multi-Chamber B2B Networking
DESCRIPTION:Join us for a Business to Business Multi Chamber Networking Event! We will have a meet and greet over breakfast\, and then focused round-table rotations to get the most connections out of the event!
X-ALT-DESC;FMTTYPE=text/html:<span style="color: rgb(29\, 33\, 41)\; font-family: Helvetica\, Arial\, sans-serif\; font-size: 14px\; white-space: pre-wrap\;">Join us for a Business to Business Multi Chamber Networking Event! We will have a meet and greet over breakfast\, and then focused round-table rotations to get the most connections out of the event!</span>
LOCATION:Baker Community Center 101 S. 2nd Ave St. Charles
UID:e.423.32432
SEQUENCE:3
DTSTAMP:20260423T090819Z
URL:https://members.stcharleschamber.com/events/details/multi-chamber-b2b-networking-32432
END:VEVENT

END:VCALENDAR
