BEGIN:VCALENDAR
VERSION:2.0
PRODID:-//ChamberMaster//Event Calendar 2.0//EN
METHOD:PUBLISH
X-PUBLISHED-TTL:P3D
REFRESH-INTERVAL:P3D
CALSCALE:GREGORIAN
BEGIN:VEVENT
DTSTART:20200624T163000Z
DTEND:20200624T183000Z
X-MICROSOFT-CDO-ALLDAYEVENT:FALSE
SUMMARY:Multi-Chamber B2B Progressive Virtual Networking Event
DESCRIPTION:This opportunity to network and collaborate with other B2B leaders is brought to you by the St. Charles Chamber in partnership with Bartlett Area\, Batavia\, Geneva\, Cary-Grove Area\, Elgin Area\, and Northern Kane County Chambers. Join us for this great chance to connect with businesses from all across the area!
X-ALT-DESC;FMTTYPE=text/html:<span style="font-size:14px\;">This opportunity to network and collaborate with other B2B leaders is brought to you by the St. Charles Chamber in partnership with Bartlett Area\, Batavia\, Geneva\, Cary-Grove Area\, Elgin Area\, and Northern Kane County Chambers. <strong>Join us for this great chance to connect with businesses from all across the area!&nbsp\;</strong></span>
LOCATION:
UID:e.423.34934
SEQUENCE:3
DTSTAMP:20260422T112937Z
URL:https://members.stcharleschamber.com/events/details/multi-chamber-b2b-progressive-virtual-networking-event-34934
END:VEVENT

END:VCALENDAR
