BEGIN:VCALENDAR
VERSION:2.0
PRODID:-//ChamberMaster//Event Calendar 2.0//EN
METHOD:PUBLISH
X-PUBLISHED-TTL:P3D
REFRESH-INTERVAL:P3D
CALSCALE:GREGORIAN
BEGIN:VEVENT
DTSTART:20200123T170000Z
DTEND:20200123T190000Z
X-MICROSOFT-CDO-ALLDAYEVENT:FALSE
SUMMARY:WBC January Luncheon
DESCRIPTION:
X-ALT-DESC;FMTTYPE=text/html:
LOCATION:Pheasant Run 4051 E Main St St Charles
UID:e.423.32682
SEQUENCE:3
DTSTAMP:20260422T173237Z
URL:https://members.stcharleschamber.com/events/details/wbc-january-luncheon-32682
END:VEVENT

END:VCALENDAR
